BEGIN:VCALENDAR
VERSION:2.0
PRODID:-//eventon.com NONSGML v1.0//EN
CALSCALE:GREGORIAN
METHOD:PUBLISH
BEGIN:VEVENT
UID:69e8921695145
DTSTAMP:20260422T091710Z
DTSTART:20171009T223000Z
DTEND:20171010T003000Z
LOCATION:
SUMMARY:Ellettsville Town Council Meeting
DESCRIPTION:Ellettsville Town Council Meeting\nhttps://ellettsvillechamber.
 org/events/ellettsville-town-council-meeting-56/
URL:https://ellettsvillechamber.org/events/ellettsville-town-council-meeting-56/
END:VEVENT
END:VCALENDAR