BEGIN:VCALENDAR
VERSION:2.0
PRODID:-//eventon.com NONSGML v1.0//EN
CALSCALE:GREGORIAN
METHOD:PUBLISH
BEGIN:VEVENT
UID:69e4c7c4e8870
DTSTAMP:20260419T121708Z
DTSTART:20180209T210000Z
DTEND:20180210T010000Z
LOCATION:
SUMMARY:Open House/Ribbon Cutting: Dyche Insurance
DESCRIPTION:Join us as we welcome our newest Chamber member to downtown Ell
 ettsville. On Friday\,  February 9\,  4:00-8:00 p.m. there is a ribbon cutt
 ing ceremony and open house for Dyche Insurance Services (State Farm). Refr
 eshments will be served &#8211; and all are welcome!\nhttps://ellettsvillec
 hamber.org/events/open-house-ribbon-cutting-dyche-insurance/
URL:https://ellettsvillechamber.org/events/open-house-ribbon-cutting-dyche-insurance/
END:VEVENT
END:VCALENDAR