BEGIN:VCALENDAR
VERSION:2.0
PRODID:-//eventon.com NONSGML v1.0//EN
CALSCALE:GREGORIAN
METHOD:PUBLISH
BEGIN:VEVENT
UID:69e8cc918a315
DTSTAMP:20260422T132641Z
DTSTART:20191028T223000Z
DTEND:20191029T000000Z
LOCATION:
SUMMARY:Ellettsville Town Council Meeting
DESCRIPTION:Ellettsville Town Council Meeting\nhttps://ellettsvillechamber.
 org/events/ellettsville-town-council-meeting-31/
URL:https://ellettsvillechamber.org/events/ellettsville-town-council-meeting-31/
END:VEVENT
END:VCALENDAR