BEGIN:VCALENDAR
VERSION:2.0
PRODID:-//eventon.com NONSGML v1.0//EN
CALSCALE:GREGORIAN
METHOD:PUBLISH
BEGIN:VEVENT
UID:69e4cf9b78df7
DTSTAMP:20260419T125035Z
DTSTART:20201228T233000Z
DTEND:20201229T003000Z
LOCATION:
SUMMARY:Ellettsville Town Council Meeting
DESCRIPTION:Ellettsville Town Council Meeting\nhttps://ellettsvillechamber.
 org/events/ellettsville-town-council-meeting-8/
URL:https://ellettsvillechamber.org/events/ellettsville-town-council-meeting-8/
END:VEVENT
END:VCALENDAR