BEGIN:VCALENDAR
VERSION:2.0
PRODID:-//eventon.com NONSGML v1.0//EN
CALSCALE:GREGORIAN
METHOD:PUBLISH
BEGIN:VEVENT
UID:69e891d102d3b
DTSTAMP:20260422T091601Z
DTSTART:20201005T213000Z
DTEND:20201005T223000Z
LOCATION:
SUMMARY:Parks and Recreation Board Meeting
DESCRIPTION:Parks and Recreation Board Meeting\nhttps://ellettsvillechamber
 .org/events/parks-and-recreation-board-meeting-3/
URL:https://ellettsvillechamber.org/events/parks-and-recreation-board-meeting-3/
END:VEVENT
END:VCALENDAR