BEGIN:VCALENDAR
VERSION:2.0
PRODID:-//eventon.com NONSGML v1.0//EN
CALSCALE:GREGORIAN
METHOD:PUBLISH
BEGIN:VEVENT
UID:69e891d13673a
DTSTAMP:20260422T091601Z
DTSTART:20210804T180000Z
DTEND:20210804T190000Z
LOCATION:
SUMMARY:Mimosa Tree Florist & Gift Shoppe
DESCRIPTION:Ribbon Cutting CeremonyJoin us for a Ribbon Cutting Ceremony at
 Mimosa Tree Florist and Gift ShoppeWednesday\,  August 4 from 2:00 &#8211; 
 3:00 p.m.The Ribbon Cutting will take place at 2:15 p.m.Please join us in c
 elebrating Mikey &#038; David Gray&#8217;s new ownership of the Mimosa Tree
 ! Light refreshments will be served. Wednesday\, [..]\nhttps://ellettsville
 chamber.org/events/mimosa-tree-florist-gift-shoppe/
URL:https://ellettsvillechamber.org/events/mimosa-tree-florist-gift-shoppe/
END:VEVENT
END:VCALENDAR