BEGIN:VCALENDAR
VERSION:2.0
PRODID:-//eventon.com NONSGML v1.0//EN
CALSCALE:GREGORIAN
METHOD:PUBLISH
BEGIN:VEVENT
UID:69e891b7dead0
DTSTAMP:20260422T091535Z
DTSTART:20220624T154500Z
DTEND:20220624T170000Z
LOCATION:
SUMMARY:June Power Luncheon
DESCRIPTION:Join us on Friday\,  June 24 for our Monthly Power Luncheon as 
 we invite Jennifer Pearl\,  President of the Bloomington Economic Developme
 nt Corporation to share what&#8217;s developing in Monroe County. Register 
 here\nhttps://ellettsvillechamber.org/events/june-power-luncheon/
URL:https://ellettsvillechamber.org/events/june-power-luncheon/
END:VEVENT
END:VCALENDAR