BEGIN:VCALENDAR
VERSION:2.0
PRODID:-//eventon.com NONSGML v1.0//EN
CALSCALE:GREGORIAN
METHOD:PUBLISH
BEGIN:VEVENT
UID:69e891e0661d1
DTSTAMP:20260422T091616Z
DTSTART:20250307T073000Z
DTEND:20250307T090000Z
LOCATION:Ellettsville Town Hall 1150 W. Guy McCown Drive
SUMMARY:Get to Know Your Government & Community Leaders - Legislative Panel - SOLD OUT
DESCRIPTION:March 7 &#8211; Join us for a panel discussion with our Indiana
  legislators\,  Rep. Peggy Mayfield\,  Rep. Bob Heaton\,  Dave Halland Sen.
  Shelli Yoder\,  as they provide insights into the 2025 Indiana General Ass
 embly legislative session. Learn about key developments and how proposed le
 gislation may impact the Ellettsville business community[..]\nhttps://ellet
 tsvillechamber.org/events/get-to-know-your-government-community-leaders-leg
 islative-panel/
URL:https://ellettsvillechamber.org/events/get-to-know-your-government-community-leaders-legislative-panel/
END:VEVENT
END:VCALENDAR