BEGIN:VCALENDAR
VERSION:2.0
PRODID:-//eventon.com NONSGML v1.0//EN
CALSCALE:GREGORIAN
METHOD:PUBLISH
BEGIN:VEVENT
UID:69e89243c00a0
DTSTAMP:20260422T091755Z
DTSTART:20240815T200000Z
DTEND:20240815T220000Z
LOCATION:The Hawaiian Hoosier 120 W. Temperance Street
SUMMARY:Ribbon Cutting at The Hawaiian Hoosier
DESCRIPTION:Join us for a Ribbon Cutting Ceremony at The Hawaiian Hoosier R
 ibbon Cutting at 4:30 Food SamplingLive MusicGive Aways RSVP RSVP\nhttps://
 ellettsvillechamber.org/events/ribbon-cutting-at-the-hawaiian-hoosier/
URL:https://ellettsvillechamber.org/events/ribbon-cutting-at-the-hawaiian-hoosier/
END:VEVENT
END:VCALENDAR