BEGIN:VCALENDAR
VERSION:2.0
PRODID:-//eventon.com NONSGML v1.0//EN
CALSCALE:GREGORIAN
METHOD:PUBLISH
BEGIN:VEVENT
UID:69e891e082c06
DTSTAMP:20260422T091616Z
DTSTART:20240308T114500Z
DTEND:20240308T130000Z
LOCATION:Ellettsville Town Hall 1150 W. Guy McCown Drive
SUMMARY:March 2024 Power Luncheon
DESCRIPTION:Featuring Area 10 Agency on Aging Executive Director\,  Chris M
 yers Transportation and caring for elderly family members can be big issues
  that affect employee absenteeism  and productivity. Join us on Friday\,  
 March 8 to learn how Ellettsville-based Area 10 Agency provides services th
 at can help employees facing these issues. Learn[..]\nhttps://ellettsvillec
 hamber.org/events/march-2024-power-luncheon/
URL:https://ellettsvillechamber.org/events/march-2024-power-luncheon/
END:VEVENT
END:VCALENDAR